BEGIN:VCALENDAR
VERSION:2.0
PRODID:-//Chaowen Ting - ECPv6.8.3//NONSGML v1.0//EN
CALSCALE:GREGORIAN
METHOD:PUBLISH
X-ORIGINAL-URL:https://chaowenting.com
X-WR-CALDESC:Events for Chaowen Ting
REFRESH-INTERVAL;VALUE=DURATION:PT1H
X-Robots-Tag:noindex
X-PUBLISHED-TTL:PT1H
BEGIN:VTIMEZONE
TZID:America/New_York
BEGIN:DAYLIGHT
TZOFFSETFROM:-0500
TZOFFSETTO:-0400
TZNAME:EDT
DTSTART:20230312T070000
END:DAYLIGHT
BEGIN:STANDARD
TZOFFSETFROM:-0400
TZOFFSETTO:-0500
TZNAME:EST
DTSTART:20231105T060000
END:STANDARD
BEGIN:DAYLIGHT
TZOFFSETFROM:-0500
TZOFFSETTO:-0400
TZNAME:EDT
DTSTART:20240310T070000
END:DAYLIGHT
BEGIN:STANDARD
TZOFFSETFROM:-0400
TZOFFSETTO:-0500
TZNAME:EST
DTSTART:20241103T060000
END:STANDARD
BEGIN:DAYLIGHT
TZOFFSETFROM:-0500
TZOFFSETTO:-0400
TZNAME:EDT
DTSTART:20250309T070000
END:DAYLIGHT
BEGIN:STANDARD
TZOFFSETFROM:-0400
TZOFFSETTO:-0500
TZNAME:EST
DTSTART:20251102T060000
END:STANDARD
END:VTIMEZONE
BEGIN:VEVENT
DTSTART;TZID=America/New_York:20250622T000000
DTEND;TZID=America/New_York:20250622T000000
DTSTAMP:20260423T183127
CREATED:20250724T012604Z
LAST-MODIFIED:20250724T020850Z
UID:478-1750550400-1750550400@chaowenting.com
SUMMARY:The Atlanta Opera: Steele Roots Premiere
DESCRIPTION:Steele Roots – World Premiere\nThe Atlanta Opera Commission\n \nComposer: Dave Ragland\nLibrettist: Selda Sahin\nthe 2023 winners of the 96 Hour Opera Project. \nChaowen Ting\, Assistant Conductor \nVENUE: Ray Charles Performing Arts Center
URL:https://chaowenting.com/event/tao-2025sr3/
CATEGORIES:2024-25,2025,New Music,Opera
ATTACH;FMTTYPE=image/jpeg:https://chaowenting.com/wp-content/uploads/2025/07/Banner_25SteeleRoots.jpg
END:VEVENT
BEGIN:VEVENT
DTSTART;TZID=America/New_York:20250620T000000
DTEND;TZID=America/New_York:20250620T000000
DTSTAMP:20260423T183127
CREATED:20250724T012253Z
LAST-MODIFIED:20250724T020914Z
UID:477-1750377600-1750377600@chaowenting.com
SUMMARY:The Atlanta Opera: Steele Roots Premiere
DESCRIPTION:Steele Roots – World Premiere\nThe Atlanta Opera Commission\n \nComposer: Dave Ragland\nLibrettist: Selda Sahin\nthe 2023 winners of the 96 Hour Opera Project. \nChaowen Ting\, Assistant Conductor \nVENUE: Ray Charles Performing Arts Center
URL:https://chaowenting.com/event/tao-2025sr2/
CATEGORIES:2024-25,2025,New Music,Opera
ATTACH;FMTTYPE=image/jpeg:https://chaowenting.com/wp-content/uploads/2025/07/steeler.jpg
END:VEVENT
BEGIN:VEVENT
DTSTART;TZID=America/New_York:20250619T000000
DTEND;TZID=America/New_York:20250622T000000
DTSTAMP:20260423T183127
CREATED:20250724T013049Z
LAST-MODIFIED:20250724T020902Z
UID:486-1750291200-1750550400@chaowenting.com
SUMMARY:The Atlanta Opera: Water Memory workshop
DESCRIPTION:Water Memory – New Opera Orchestra Workshop\nThe Atlanta Opera Commission \nComposer: Kitty Brazelton\nLibrettist: Vaibu Mohan\nthe 2024 winners of the 96 Hour Opera Project. \nChaowen Ting\, Conductor
URL:https://chaowenting.com/event/tao-2025wm/
CATEGORIES:2024-25,2025,New Music,Opera
ATTACH;FMTTYPE=image/jpeg:https://chaowenting.com/wp-content/uploads/2025/07/wm-e1753320632219.jpg
END:VEVENT
BEGIN:VEVENT
DTSTART;TZID=America/New_York:20250310T000000
DTEND;TZID=America/New_York:20250313T000000
DTSTAMP:20260423T183127
CREATED:20250724T011954Z
LAST-MODIFIED:20250724T020928Z
UID:475-1741564800-1741824000@chaowenting.com
SUMMARY:The Atlanta Opera: workshop
DESCRIPTION:Steele Roots – New Opera Orchestra Workshop\nThe Atlanta Opera Commission \nComposer: Dave Ragland\nLibrettist: Selda Sahin\nthe 2023 winners of the 96 Hour Opera Project. \nChaowen Ting\, Assistant Conductor
URL:https://chaowenting.com/event/tao-2025sr1/
CATEGORIES:2024-25,2025,New Music,Opera
ATTACH;FMTTYPE=image/jpeg:https://chaowenting.com/wp-content/uploads/2025/07/steele-roots.jpg
END:VEVENT
BEGIN:VEVENT
DTSTART;TZID=America/New_York:20240615T200000
DTEND;TZID=America/New_York:20240615T213000
DTSTAMP:20260423T183127
CREATED:20231214T200756Z
LAST-MODIFIED:20240616T142322Z
UID:212-1718481600-1718487000@chaowenting.com
SUMMARY:The Atlanta Opera
DESCRIPTION:Forsyth County is Flooding – World Premiere\nThe Atlanta Opera Commission \nMarcus Norris (Composer) and Adamma Ebo (Librettist)\, the 2022 winners of the 96 Hour Opera Project. \nChaowen Ting\, Conductor
URL:https://chaowenting.com/event/the-atlanta-opera-3/
LOCATION:The Ray Charles Center for the Performing Arts\, Atlanta\, United States
CATEGORIES:2023-24,New Music,Opera
ATTACH;FMTTYPE=image/jpeg:https://chaowenting.com/wp-content/uploads/2023/12/96-hour-winners-Norris-Ebo-720x.jpg
END:VEVENT
BEGIN:VEVENT
DTSTART;VALUE=DATE:20240318
DTEND;VALUE=DATE:20240321
DTSTAMP:20260423T183127
CREATED:20231214T060833Z
LAST-MODIFIED:20240616T142322Z
UID:155-1710720000-1710979199@chaowenting.com
SUMMARY:The Atlanta Opera
DESCRIPTION:Forsyth County is Flooding – New Opera Orchestra Workshop\nThe Atlanta Opera Commission \nMarcus Norris (Composer) and Adamma Ebo (Librettist)\, the 2022 winners of the 96 Hour Opera Project. \nChaowen Ting\, Assistant Conductor
URL:https://chaowenting.com/event/the-atlanta-opera-2/
LOCATION:The Atlanta Opera\, Atlanta
CATEGORIES:2023-24,Opera
ATTACH;FMTTYPE=image/jpeg:https://chaowenting.com/wp-content/uploads/2023/12/96-hour-winners-Norris-Ebo-720x.jpg
END:VEVENT
BEGIN:VEVENT
DTSTART;VALUE=DATE:20231211
DTEND;VALUE=DATE:20231213
DTSTAMP:20260423T183127
CREATED:20231214T053102Z
LAST-MODIFIED:20240616T142322Z
UID:125-1702252800-1702425599@chaowenting.com
SUMMARY:The Atlanta Opera
DESCRIPTION:The Atlanta Opera – New Opera Workshop\nForsyth County is Flooding\nThe Atlanta Opera Commission \nMarcus Norris (Composer) and Adamma Ebo (Librettist)\, the 2022 winners of the 96 Hour Opera Project. \nChaowen Ting\, Assistant Conductor
URL:https://chaowenting.com/event/the-atlanta-opera/
LOCATION:The Atlanta Opera\, Atlanta
CATEGORIES:2023-24,Opera
ATTACH;FMTTYPE=image/jpeg:https://chaowenting.com/wp-content/uploads/2023/12/96-hour-winners-Norris-Ebo-720x.jpg
END:VEVENT
END:VCALENDAR